BEGIN:VCALENDAR
VERSION:2.0
PRODID:icalendar-ruby
CALSCALE:GREGORIAN
BEGIN:VEVENT
DTSTAMP:20210122T035753Z
UID:ce8da8fd-a001-47b6-a898-ae19426ff96e
DTSTART;VALUE=DATE:20200213
DESCRIPTION:Property ID# 469427\, Locatoin: Bayleys Office\, 1092 Fenton St
 reet\, Rotorua\, Time: 12:00PM
SUMMARY:Auction for 
END:VEVENT
END:VCALENDAR
