BEGIN:VCALENDAR
VERSION:2.0
PRODID:icalendar-ruby
CALSCALE:GREGORIAN
BEGIN:VEVENT
DTSTAMP:20210122T035751Z
UID:5380f5c2-c2a2-4cdf-8111-aaf545a5d983
DTSTART;VALUE=DATE:20200211
DESCRIPTION:Property ID# 469429\, Locatoin: Motion Entertainment Centre\, T
 ime: 12:00PM
SUMMARY:Auction for 
END:VEVENT
END:VCALENDAR
