BEGIN:VCALENDAR
VERSION:2.0
PRODID:icalendar-ruby
CALSCALE:GREGORIAN
BEGIN:VEVENT
DTSTAMP:20210122T035747Z
UID:4681782b-cd36-4576-9e80-1d223909bafd
DTSTART;VALUE=DATE:20200630
DESCRIPTION:Property ID# 472423\, Locatoin: Bayleys Office\, 1092 Fenton St
 reet\, Rotorua\, Time: 4:00PM
SUMMARY:Auction for 35 Spencer Road
END:VEVENT
END:VCALENDAR
