BEGIN:VCALENDAR
VERSION:2.0
PRODID:icalendar-ruby
CALSCALE:GREGORIAN
BEGIN:VEVENT
DTSTAMP:20210122T035750Z
UID:11ab6fcb-65de-4564-883d-f59747c40549
DTSTART;VALUE=DATE:20200324
DESCRIPTION:Property ID# 474370\, Locatoin: Motion Entertainment\, 346 Te N
 gae Road\, Rotorua\, Time: 1:00PM
SUMMARY:Auction for 
END:VEVENT
END:VCALENDAR
