BEGIN:VCALENDAR
VERSION:2.0
PRODID:icalendar-ruby
CALSCALE:GREGORIAN
BEGIN:VEVENT
DTSTAMP:20210122T035748Z
UID:0265a8e7-8e1a-478a-bf52-6f90c29196af
DTSTART;VALUE=DATE:20200630
DESCRIPTION:Property ID# 482018\, Locatoin: Motion Entertainment Center\, T
 ime: 1:00PM
SUMMARY:Auction for 
END:VEVENT
END:VCALENDAR
